BEGIN:VCALENDAR
VERSION:2.0
PRODID:-//hacksw/handcal//NONSGML v1.0//EN
BEGIN:VEVENT
SUMMARY:JEUDI 19 MARS : LUGNY LES CHAROLLES
UID:62c2b4e6-f12f-4d2c-bd55-b00f0eabfab1
DTSTART:20260319T120000Z
DTEND:20260319T163000Z
LOCATION:Localisation   
CATEGORIES:Sportif
STATUS:
DESCRIPTION:<p style="text-align:center;"> </p>
 
 <p
 style="text-align:center;"><span style="color:#2980b9;"><span
 style="font-size:36px;"><strong><u>JEUDI 19 MARS
 2026 </u></strong></span></span></p>
 
 <p
 style="text-align:center;"> </p>
 
 <p
 style="text-align:center;"><span style="color:#2980b9;"><span
 style="font-size:36px;"><strong>MARCHE a LUGNY LES
 CHAROLLES</strong></span></span></p>
 
 <p
 style="text-align:center;"> </p>
 
 <p
 style="text-align:center;"> </p>
 
 <p
 style="text-align:center;"><span
 style="font-size:22px;"><strong>Grande rando :   12 km Denivele
 +220m</strong></span></p>
 
 <p style="text-align:center;"><span
 style="font-size:22px;"><strong>Rando douce : 9,3 km Denivele
 +150m</strong></span></p>
 
 <p style="text-align:center;"><span
 style="font-size:22px;"><strong>Guetres et batons fortement
 recommandes</strong></span></p>
 
 <p
 style="text-align:center;"> </p>
 
 <p
 style="text-align:center;"> </p>
 
 <p
 style="text-align:center;"> </p>
 
 <p
 style="text-align:center;"> </p>
 
 <p
 style="text-align:center;"> </p>
 
 <p
 style="text-align:center;"> </p>
 
 <p
 style="text-align:center;"> </p>
 
 <p><span
 style="font-size:22px;"><b>DEPART  du MOULIN LIRON :
 13h00</b></span></p>
 
 <p><span style="font-size:22px;"><b>RV
 <u>Depart de la rando 13h30</u> : </b><strong>parking du cimetiere a
 Lugny Les
 Charolles</strong></span></p>
 
 <p> </p>
 
 <p> </p>
 
 <p> </p>
 
 <p><span
 style="font-size: 22px;"><b>                           
              </b></span></p>
 
 <p
 style="text-align:center;"> </p>
 
 <p
 style="text-align:center;"> </p>
 
 <p> </p>
URL;VALUE=URI:https://www.acbr.fr/evenements/2026/03/19/jeudi-19-mars-lugny-les-charolles-2421995
END:VEVENT
END:VCALENDAR
