BEGIN:VCALENDAR
VERSION:2.0
PRODID:-//hacksw/handcal//NONSGML v1.0//EN
BEGIN:VEVENT
SUMMARY:RANDO SANTE DIGOIN VAL DE LOIRE
UID:ff3724ef-f921-42eb-accf-0ac99544e112
DTSTART:20260420T114500Z
DTEND:20260420T144500Z
LOCATION:Localisation CURDIN  
CATEGORIES:Sportif
STATUS:
DESCRIPTION:<p><strong><span style="font-size:18px;">LUNDI 20 AVRIL
 2026</span></strong></p>
 
 <p><strong><span
 style="font-size:18px;">MARCHE A CURDIN (Bourg) 5,9 KM, deniveles
 +119 m. Cheminements propres, Petits passages
 herbeux</span></strong></p>
 
 <p><strong><span
 style="font-size:18px;">13 H 45 RDV PARKING PLACE DE LA REPUBLIQUE
 DIGOIN</span></strong></p>
 
 <p><strong><span
 style="font-size:18px;">14 H 20 DEPART RANDO PARKING FACE A LA MAIRIE
 LE BOURG CURDIN</span></strong></p>
URL;VALUE=URI:https://www.acbr.fr/evenements/2026/04/20/rando-sante-digoin-val-de-loire-2441917
END:VEVENT
END:VCALENDAR
