BEGIN:VCALENDAR
VERSION:2.0
PRODID:-//hacksw/handcal//NONSGML v1.0//EN
BEGIN:VEVENT
SUMMARY:MARCHE A LA JOURNEE : LAC DE ST POINT
UID:1ccb8059-5bd5-44af-a5e5-0fd276ab3587
DTSTART:20260421T050000Z
DTEND:20260421T160000Z
LOCATION:Localisation   
CATEGORIES:Sportif
STATUS:
DESCRIPTION:<p style="text-align: center;"><u><span
 style="color:#27ae60;"><span style="font-size: 24px;"><b>MARDI
 21AVRIL 2026 : MARCHE A LA JOURNEE </b></span></span></u></p>
 
 <p
 style="text-align: center;"><u><span style="color:#27ae60;"><span
 style="font-size: 24px;"><b>AU LAC DE ST
 POINT </b></span></span></u></p>
 
 <p style="text-align:
 center;"><span style="font-size: 24px;"><b><span
 style="color:#c0392b;">Deplacement en
 voiture</span></b></span></p>
 
 <p style="text-align: center;"><span
 style="font-size:18px;"><span style="color:#27ae60;">Batons
 conseilles.</span></span></p>
 
 <p><span
 style="font-size:16px;">Depart en covoiturage du Moulin Liron
 <strong>rv 6h45</strong> <strong>pour depart
 7h00</strong>.</span></p>
 
 <p><strong><span
 style="font-size:16px;">RV parking du lac de St Point a
 8h.</span></strong></p>
 
 <p><span style="font-size:16px;"><strong>1
 grande rando de  18 km</strong> (12km matin  D 370m + 6 km apres
 midi D 230m). </span></p>
 
 <p><span
 style="font-size:16px;"><strong>1 rando de  15 km</strong> (9km
 matin D 270m+ 6 km apres midi D 230m). </span></p>
 
 <p><span
 style="font-size:16px;">L'apres-midi, possibilite de faire 6 km ou de
 rester autour du lac : petite balade jusqu'au chateau 2 km ou balade
 tour du lac 2 km ou sieste!</span></p>
 
 <p><strong><span
 style="font-size: 16px;">Pas de rando sante, le relief n'est pas
 adapte.</span></strong></p>
 
 <p><span style="font-size:16px;">Les
 pique-niques restent dans les voitures. Possibilite d'apporter
 chaises et tables.</span></p>
 
 <p> </p>
 
 <p><span
 style="font-size:16px;">Retour sur Paray entre 17h et
 18h.</span></p>
 
 <p style="text-align: center;"> </p>
URL;VALUE=URI:https://www.acbr.fr/evenements/2026/04/21/marche-a-la-journee-lac-de-st-point-2325473
END:VEVENT
END:VCALENDAR
