BEGIN:VCALENDAR
VERSION:2.0
PRODID:-//hacksw/handcal//NONSGML v1.0//EN
BEGIN:VEVENT
SUMMARY:RANDO SANTE GUEUGNON VAL D'ARROUX
UID:3ea820e4-9ec5-4c20-b9fe-fc191b15f2e1
DTSTART:20260421T114500Z
DTEND:20260421T144500Z
LOCATION:Localisation LA CHAPELLE AU MANS  
CATEGORIES:Sportif
STATUS:
DESCRIPTION:<p><span style="font-size:18px;"><strong>MARDI 21 AVRIL
 2026 </strong></span></p>
 
 <p><span
 style="font-size:18px;"><strong>MARCHE A LA CHAPELLE AU MANS (
 EOLIENNES) 7,1 KM, Petit Denivele +78 m, CHEMINEMENTS
 PROPRES</strong></span></p>
 
 <p><span
 style="font-size:18px;"><strong>13 h 45 RDV PARKING DU STADE JEAN
 LAVILLE GUEUGNON</strong></span></p>
 
 <p><span
 style="font-size:18px;"><strong>14 H 20 DEPART RANDO NOUVEAU PARKING
 CENTRE BOURG D 51</strong></span></p>
URL;VALUE=URI:https://www.acbr.fr/evenements/2026/04/21/rando-sante-gueugnon-val-darroux-2441919
END:VEVENT
END:VCALENDAR
