BEGIN:VCALENDAR
VERSION:2.0
PRODID:-//hacksw/handcal//NONSGML v1.0//EN
BEGIN:VEVENT
SUMMARY:RANDO SANTE PARAY
UID:ba16f8bf-b1a9-48a1-a3b5-13993163cfbd
DTSTART:20260421T220000Z
DTEND:20260422T220000Z
LOCATION:Localisation   
CATEGORIES:Sportif
STATUS:
DESCRIPTION:<p><span style="font-size:26px;"><span
 style="color:#2980b9;"><strong>Mercredi 22
 AVRIL </strong></span></span></p>
 
 <p><span
 style="font-size:28px;"><span style="color:#2980b9;"><strong>     
   </strong></span><span style="color:#2ecc71;"><strong>RIGNY sur
 Arroux</strong></span></span></p>
 
 <p><span
 style="font-size:22px;">petite cote sur le
 parcours </span></p>
 
 <p> </p>
 
 <p><em><span
 style="font-size:18px;">           </span></em></p>
 
 <p><span
 style="font-size:20px;">Depart moulin liron :
 <strong>14h00</strong></span></p>
 
 <p><span
 style="font-size:20px;">Depart marche: 14h30 parking a D. apres
 l'eglise</span></p>
 
 <p> </p>
URL;VALUE=URI:https://www.acbr.fr/evenements/2026/04/22/rando-sante-paray-2364855
END:VEVENT
END:VCALENDAR
