BEGIN:VCALENDAR
VERSION:2.0
PRODID:-//hacksw/handcal//NONSGML v1.0//EN
BEGIN:VEVENT
SUMMARY:JEUDI 23 AVRIL : ST CHRISTOPHE EN BRIONNAIS
UID:40b0a0e7-e762-491b-84af-8b6cc85dc63e
DTSTART:20260423T113000Z
DTEND:20260423T160000Z
LOCATION:Localisation   
CATEGORIES:Sportif
STATUS:
DESCRIPTION:<p style="text-align:center;"> </p>
 
 <p
 style="text-align:center;"><span style="color:#2980b9;"><span
 style="font-size:36px;"><strong><u>JEUDI 23 AVRIL
 2026 </u></strong></span></span></p>
 
 <p
 style="text-align:center;"> </p>
 
 <p
 style="text-align:center;"><span style="color:#2980b9;"><span
 style="font-size:36px;"><strong>MARCHE a ST CHRISTOPHE EN
 BRIONNAIS</strong></span></span></p>
 
 <p
 style="text-align:center;"> </p>
 
 <p
 style="text-align:center;"> </p>
 
 <p
 style="text-align:center;"><span
 style="font-size:22px;"><strong>Grande rando :  12km5 Denivele
 +170m</strong></span></p>
 
 <p style="text-align:center;"><span
 style="font-size:22px;"><strong>Rando douce : 10km4 Denivele
 +130m</strong></span></p>
 
 <p style="text-align:center;"> </p>
 
 <p
 style="text-align:center;"> </p>
 
 <p
 style="text-align:center;"> </p>
 
 <p
 style="text-align:center;"> </p>
 
 <p
 style="text-align:center;"> </p>
 
 <p
 style="text-align:center;"> </p>
 
 <p
 style="text-align:center;"> </p>
 
 <p
 style="text-align:center;"> </p>
 
 <p><span
 style="color:#c0392b;"><span style="font-size:22px;"><b>ATTENTION
 HORAIRE D'ETE</b></span></span></p>
 
 <p><span
 style="font-size:22px;"><b>DEPART  du MOULIN LIRON :
 13h30</b></span></p>
 
 <p><span style="font-size:22px;"><b>RV
 <u>Depart de la rando 14h00</u> : </b><strong>parking cimetiere a St
 Christophe en
 Brionnais</strong></span></p>
 
 <p> </p>
 
 <p> </p>
 
 <p> </p>
 
 <p><span
 style="font-size: 22px;"><b>                           
              </b></span></p>
 
 <p
 style="text-align:center;"> </p>
 
 <p
 style="text-align:center;"> </p>
 
 <p> </p>
URL;VALUE=URI:https://www.acbr.fr/evenements/2026/04/23/jeudi-23-avril-st-christophe-en-brionnais-2442502
END:VEVENT
END:VCALENDAR
