BEGIN:VCALENDAR
VERSION:2.0
PRODID:-//hacksw/handcal//NONSGML v1.0//EN
BEGIN:VEVENT
SUMMARY:MARCHE NORDIQUE /CHAROLLES ET ETANG CURE
UID:bac4465f-e750-4189-8208-22b551a8761d
DTSTART:20260425T063000Z
DTEND:20260425T093000Z
LOCATION:Localisation   
CATEGORIES:Sportif
STATUS:
DESCRIPTION:<p style="text-align:center;"><u><span
 style="font-size:28px;"><span style="color:#f39c12;"><strong>SAMEDI
 25 AVRIL 2026</strong></span></span></u></p>
 
 <p
 style="text-align:center;"><font color="#f39c12"><span
 style="font-size: 28px;"><b><u>CHAROLLES ET ETANG
 CURE</u></b></span></font></p>
 
 <p
 style="text-align:center;"> </p>
 
 <p><span
 style="font-size:22px;"><strong><u>MARCHE NORDIQUE :
 HELENE</u></strong></span></p>
 
 <p><span
 style="font-size:22px;"><strong>Charolles Foret domaniale.
 </strong></span></p>
 
 <p><span style="font-size:22px;"><strong>Depart
 8h30 Moulin Liron. </strong></span></p>
 
 <p><span
 style="font-size:22px;"><strong>Echauffements 8h50 entree du bois,
 route a gauche juste avant magasin de quads en venant de
 Paray.</strong></span></p>
 
 <p> </p>
 
 <p><span
 style="font-size:22px;"><u><strong>MARCHE ACTIVE
 :</strong></u><strong> GILLES</strong></span></p>
 
 <p><span
 style="font-size:22px;"><strong>St Yan Etang Cure.
 </strong></span></p>
 
 <p><span style="font-size:22px;"><strong>RDV
 Moulin Liron 8h30 pour covoiturage.<br />
 Depart rando 9h00 petite
 placette Etang Cure.<u> </u></strong></span></p>
URL;VALUE=URI:https://www.acbr.fr/evenements/2026/04/25/marche-nordique-charolles-et-etang-cure-2444214
END:VEVENT
END:VCALENDAR
