BEGIN:VCALENDAR
VERSION:2.0
PRODID:-//hacksw/handcal//NONSGML v1.0//EN
BEGIN:VEVENT
SUMMARY:RANDO SANTE DIGOIN VAL DE LOIRE
UID:1fc20109-bbea-417e-94df-0d0f31ee3115
DTSTART:20260427T114500Z
DTEND:20260427T144500Z
LOCATION:Localisation St VINCENT BRAGNY  
CATEGORIES:Sportif
STATUS:
DESCRIPTION:<p><span style="font-size:18px;"><strong>LUNDI 27 AVRIL
 2026</strong></span></p>
 
 <p><span
 style="font-size:18px;"><strong>MARCHE DU MUGUET A ST VINCENT BRAGNY
 "L'HEURETIERE" 5,4 KM, NouveauTrace 90 % Bois, D+31
 m</strong></span></p>
 
 <p><span style="font-size:18px;"><strong>13 h
 45 RDV PARKING PLACE DE LA REPUBLIQUE
 DIGOIN</strong></span></p>
 
 <p><span
 style="font-size:18px;"><strong>14 H 20 DEPART RANDO Petite placette
 au carrefour de l'Heuretiere(( D52 a gauche venant de Digoin) a
 l'entree du bois</strong></span></p>
 
 <p><span
 style="font-size:18px;"><strong>(Vous munir de ficelles et autres
 elastiques pour la confection de vos bouquets)</strong></span></p>
URL;VALUE=URI:https://www.acbr.fr/evenements/2026/04/27/rando-sante-digoin-val-de-loire-2444201
END:VEVENT
END:VCALENDAR
